BEGIN:VCALENDAR
VERSION:2.0
PRODID:-//hacksw/handcal//NONSGML v1.0//EN
BEGIN:VEVENT
SUMMARY:US Mios Biganos HB / Orthez HB
UID:03e6f497-e337-4e1e-8d84-e36c42228c7f
DTSTART:20260523T183000Z
DTEND:20260523T220000Z
LOCATION:Localisation Complexe sportif Mayonnade - Impasse des Colibris 33 Mios
CATEGORIES:Sportif
STATUS:
URL;VALUE=URI:https://handballinfos33.sportsregions.fr/evenements/2026/05/23/us-mios-biganos-hb-orthez-hb-2437268
END:VEVENT
END:VCALENDAR
