BEGIN:VCALENDAR
VERSION:2.0
PRODID:-//hacksw/handcal//NONSGML v1.0//EN
BEGIN:VEVENT
SUMMARY:Sarlat Le Bugue HB  / HBC Libourne
UID:632b66fa-5f8c-436b-9ec2-685c9d5c98a8
DTSTART:20260522T220000Z
DTEND:20260523T220000Z
LOCATION:Localisation  23 Sarla la Caneda
CATEGORIES:Sportif
STATUS:
URL;VALUE=URI:https://handballinfos33.sportsregions.fr/evenements/2026/05/23/sarlat-le-bugue-hb-hbc-libourne-2437314
END:VEVENT
END:VCALENDAR
