BEGIN:VCALENDAR
VERSION:2.0
PRODID:-//hacksw/handcal//NONSGML v1.0//EN
BEGIN:VEVENT
SUMMARY:Prahecq HBC / Carbon Blanc HB
UID:054062c1-4621-4669-a7b4-5e5b52a74bf5
DTSTART:20260523T150000Z
DTEND:20260523T220000Z
LOCATION:Localisation Salle omnisports - rue des Ecoles 79230 Prahecq
CATEGORIES:Sportif
STATUS:
URL;VALUE=URI:https://handballinfos33.sportsregions.fr/evenements/2026/05/23/prahecq-hbc-carbon-blanc-hb-2437280
END:VEVENT
END:VCALENDAR
