BEGIN:VCALENDAR
VERSION:2.0
PRODID:-//hacksw/handcal//NONSGML v1.0//EN
BEGIN:VEVENT
SUMMARY:Merignac GH / Celles sur Belle Mellois en Poitou HB
UID:75b788fe-3e5f-478d-9b9b-c8a96286e971
DTSTART:20260523T150000Z
DTEND:20260523T220000Z
LOCATION:Localisation Accor Arena 75 Paris
CATEGORIES:Sportif
STATUS:
URL;VALUE=URI:https://handballinfos33.sportsregions.fr/evenements/2026/05/23/merignac-gh-celles-sur-belle-mellois-en-poitou-hb-2440987
END:VEVENT
END:VCALENDAR
