BEGIN:VCALENDAR
VERSION:2.0
PRODID:-//hacksw/handcal//NONSGML v1.0//EN
BEGIN:VEVENT
SUMMARY:Young Women's Cup 2026
UID:831e647f-be1f-43ef-902e-83da5d905c06
DTSTART:20260514T220000Z
DTEND:20260517T220000Z
LOCATION:Localisation Salle Ariane - Allee du Preuilha 33 Saint Medard en Jalles
CATEGORIES:Sportif
STATUS:
URL;VALUE=URI:https://handballinfos33.sportsregions.fr/evenements/2026/05/15/young-womens-cup-2026-2436043
END:VEVENT
END:VCALENDAR
