BEGIN:VCALENDAR
VERSION:2.0
PRODID:-//hacksw/handcal//NONSGML v1.0//EN
BEGIN:VEVENT
SUMMARY:Stade Pessacais UC HB / USAM Nimes Gard HB
UID:35cb04d1-84eb-4c13-9577-06b9e511911d
DTSTART:20260502T183000Z
DTEND:20260502T220000Z
LOCATION:Localisation Complexe sportif Bellegrave - Avenue du Colonel Jacqui 33 Pessac
CATEGORIES:Sportif
STATUS:
URL;VALUE=URI:https://handballinfos33.sportsregions.fr/evenements/2026/05/02/stade-pessacais-uc-hb-usam-nimes-gard-hb-2443791
END:VEVENT
END:VCALENDAR
