BEGIN:VCALENDAR
VERSION:2.0
PRODID:-//hacksw/handcal//NONSGML v1.0//EN
BEGIN:VEVENT
SUMMARY:PE2M HB / US Mios Biganos HB
UID:3bc875b7-3790-480c-b819-080998127a06
DTSTART:20260502T190000Z
DTEND:20260502T220000Z
LOCATION:Localisation Gymnase du College - Chemin du stade 33 Latresne
CATEGORIES:Sportif
STATUS:
URL;VALUE=URI:https://handballinfos33.sportsregions.fr/evenements/2026/05/02/pe2m-hb-us-mios-biganos-hb-2437177
END:VEVENT
END:VCALENDAR
