BEGIN:VCALENDAR
VERSION:2.0
PRODID:-//hacksw/handcal//NONSGML v1.0//EN
BEGIN:VEVENT
SUMMARY:HBC Libourne / CA Brive Correze HB
UID:43b46980-046b-4886-88e2-5bd6da9154ca
DTSTART:20260501T220000Z
DTEND:20260502T220000Z
LOCATION:Localisation Palais des Sports Kany - Avenue de Verdun 33 Libourne
CATEGORIES:Sportif
STATUS:
URL;VALUE=URI:https://handballinfos33.sportsregions.fr/evenements/2026/05/02/hbc-libourne-ca-brive-correze-hb-2437207
END:VEVENT
END:VCALENDAR
