BEGIN:VCALENDAR
VERSION:2.0
PRODID:-//hacksw/handcal//NONSGML v1.0//EN
BEGIN:VEVENT
SUMMARY:CA Beglais HB / La Roche s/Yon Vendee HB
UID:9e5c7835-7c0f-4213-adb5-d74c94c2b13f
DTSTART:20260501T220000Z
DTEND:20260502T220000Z
LOCATION:Localisation Gymnase Duhourquet - Rue Marcel Sembat 33 Begles
CATEGORIES:Sportif
STATUS:
URL;VALUE=URI:https://handballinfos33.sportsregions.fr/evenements/2026/05/02/ca-beglais-hb-la-roche-syon-vendee-hb-2443792
END:VEVENT
END:VCALENDAR
