BEGIN:VCALENDAR
VERSION:2.0
PRODID:-//hacksw/handcal//NONSGML v1.0//EN
BEGIN:VEVENT
SUMMARY:Medoc Handball / HBC Pays Castillonnais
UID:3796623e-7cc2-49ff-8762-8bf9267e299c
DTSTART:20260426T120000Z
DTEND:20260426T220000Z
LOCATION:Localisation Nouvelle salle cosec - Avenue Jean Moulin 33340 Lesparre Medoc
CATEGORIES:Sportif
STATUS:
URL;VALUE=URI:https://handballinfos33.sportsregions.fr/evenements/2026/04/26/medoc-handball-hbc-pays-castillonnais-2377152
END:VEVENT
END:VCALENDAR
