BEGIN:VCALENDAR
VERSION:2.0
PRODID:-//hacksw/handcal//NONSGML v1.0//EN
BEGIN:VEVENT
SUMMARY:HBC Bazadais / SAG Cestas HB
UID:da756c87-7ed5-43c8-a730-ddcf4de1f153
DTSTART:20260426T140000Z
DTEND:20260426T220000Z
LOCATION:Localisation Gymnase Sainte Cluque - 5 avenue Paul Lamarque 33430 Bazas
CATEGORIES:Sportif
STATUS:
URL;VALUE=URI:https://handballinfos33.sportsregions.fr/evenements/2026/04/26/hbc-bazadais-sag-cestas-hb-2379938
END:VEVENT
END:VCALENDAR
