BEGIN:VCALENDAR
VERSION:2.0
PRODID:-//hacksw/handcal//NONSGML v1.0//EN
BEGIN:VEVENT
SUMMARY:AS Handball Brannais / US Parempuyre HB
UID:cda2e708-11d0-4a4e-bb71-1cdd94949ff6
DTSTART:20260426T140000Z
DTEND:20260426T220000Z
LOCATION:Localisation Gymnase du College Paul Emile Victor - 43 Fort du Bayard 33420 Branne
CATEGORIES:Sportif
STATUS:
URL;VALUE=URI:https://handballinfos33.sportsregions.fr/evenements/2026/04/26/as-handball-brannais-us-parempuyre-hb-2276165
END:VEVENT
END:VCALENDAR
