BEGIN:VCALENDAR
VERSION:2.0
PRODID:-//hacksw/handcal//NONSGML v1.0//EN
BEGIN:VEVENT
SUMMARY:Saint Medard-Ste Helene HB / HBC Audengeois
UID:6e608c68-97f6-481c-9d73-ddad93f387f1
DTSTART:20260425T163000Z
DTEND:20260425T220000Z
LOCATION:Localisation Salle Ariane - Allee du Preuilha 33 Saint Medard en Jalles
CATEGORIES:Sportif
STATUS:
URL;VALUE=URI:https://handballinfos33.sportsregions.fr/evenements/2026/04/25/saint-medard-ste-helene-hb-hbc-audengeois-2276162
END:VEVENT
END:VCALENDAR
