BEGIN:VCALENDAR
VERSION:2.0
PRODID:-//hacksw/handcal//NONSGML v1.0//EN
BEGIN:VEVENT
SUMMARY:JA Isle Handball / Carbon Blanc HB
UID:da957637-0670-4e41-a34d-67f9c14b7b17
DTSTART:20260425T170000Z
DTEND:20260425T220000Z
LOCATION:Localisation Gymnase Marcel Lalu - rue du Taurion 87170 Isle
CATEGORIES:Sportif
STATUS:
URL;VALUE=URI:https://handballinfos33.sportsregions.fr/evenements/2026/04/25/ja-isle-handball-carbon-blanc-hb-2437152
END:VEVENT
END:VCALENDAR
