BEGIN:VCALENDAR
VERSION:2.0
PRODID:-//hacksw/handcal//NONSGML v1.0//EN
BEGIN:VEVENT
SUMMARY:HC Saint Symphorien exempte
UID:82e8ee43-5c4d-4627-a9ca-ccb51b5c9cbf
DTSTART:20260424T220000Z
DTEND:20260425T220000Z
LOCATION:Localisation   
CATEGORIES:Sportif
STATUS:
URL;VALUE=URI:https://handballinfos33.sportsregions.fr/evenements/2026/04/25/hc-saint-symphorien-exempte-2276160
END:VEVENT
END:VCALENDAR
