BEGIN:VCALENDAR
VERSION:2.0
PRODID:-//hacksw/handcal//NONSGML v1.0//EN
BEGIN:VEVENT
SUMMARY:HBC Coutras / UA Cadillac-Cerons HB
UID:c3b427a7-9160-4512-b96c-19c6f2f22efa
DTSTART:20260425T193000Z
DTEND:20260425T220000Z
LOCATION:Localisation Salle Daniel Narcisse - 153 rue Pierre Brossolette 33230 Coutras
CATEGORIES:Sportif
STATUS:
URL;VALUE=URI:https://handballinfos33.sportsregions.fr/evenements/2026/04/25/hbc-coutras-ua-cadillac-cerons-hb-2276169
END:VEVENT
END:VCALENDAR
