BEGIN:VCALENDAR
VERSION:2.0
PRODID:-//hacksw/handcal//NONSGML v1.0//EN
BEGIN:VEVENT
SUMMARY:HBC Artiguais / Avenir Pailleton HB
UID:5052ba8a-0b98-4146-aec6-012e126e17f8
DTSTART:20260425T190000Z
DTEND:20260425T220000Z
LOCATION:Localisation Gymnase Nelson Paillou - Avenue de la prairie 33550 Artigues Pres Bordeaux
CATEGORIES:Sportif
STATUS:
URL;VALUE=URI:https://handballinfos33.sportsregions.fr/evenements/2026/04/25/hbc-artiguais-avenir-pailleton-hb-2292095
END:VEVENT
END:VCALENDAR
