BEGIN:VCALENDAR
VERSION:2.0
PRODID:-//hacksw/handcal//NONSGML v1.0//EN
BEGIN:VEVENT
SUMMARY:Grand Lac HB 40 /Merignac HB
UID:c43891df-edc5-452b-ac29-a3a20d24459a
DTSTART:20260425T173000Z
DTEND:20260425T220000Z
LOCATION:Localisation Salle du College Nelson Mandela - Route des Lacs 40600 Biscarosse
CATEGORIES:Sportif
STATUS:
URL;VALUE=URI:https://handballinfos33.sportsregions.fr/evenements/2026/04/25/grand-lac-hb-40-merignac-hb-2443243
END:VEVENT
END:VCALENDAR
