BEGIN:VCALENDAR
VERSION:2.0
PRODID:-//hacksw/handcal//NONSGML v1.0//EN
BEGIN:VEVENT
SUMMARY:Canejan HBC / Bruges 33 HB
UID:f681dc5c-f3fc-4cc6-995b-f78eadfb06e6
DTSTART:20260425T190000Z
DTEND:20260425T220000Z
LOCATION:Localisation Gymnase Pierre Meunier - 1 avenue Barricot 33 Canejan
CATEGORIES:Sportif
STATUS:
URL;VALUE=URI:https://handballinfos33.sportsregions.fr/evenements/2026/04/25/canejan-hbc-bruges-33-hb-2437150
END:VEVENT
END:VCALENDAR
