BEGIN:VCALENDAR
VERSION:2.0
PRODID:-//hacksw/handcal//NONSGML v1.0//EN
BEGIN:VEVENT
SUMMARY:CM Floirac Cenon HB / Entente Bergerac-La Force
UID:2ddaacdd-3cc7-4063-90d1-03d89f12ebb2
DTSTART:20260419T120000Z
DTEND:20260419T220000Z
LOCATION:Localisation   
CATEGORIES:Sportif
STATUS:
URL;VALUE=URI:https://handballinfos33.sportsregions.fr/evenements/2026/04/19/cm-floirac-cenon-hb-entente-bergerac-la-force-2442798
END:VEVENT
END:VCALENDAR
