BEGIN:VCALENDAR
VERSION:2.0
PRODID:-//hacksw/handcal//NONSGML v1.0//EN
BEGIN:VEVENT
SUMMARY:Handball Cubzaguais / Haillan Handball
UID:59a4fac8-1fb0-4158-a084-a32563f95ba5
DTSTART:20260418T173000Z
DTEND:20260418T220000Z
LOCATION:Localisation Gymnase intercommunal Yves Prud'homme - Rue Henri Groues dit Abbe Pierre 33240 Saint Andre de Cubzac
CATEGORIES:Sportif
STATUS:
URL;VALUE=URI:https://handballinfos33.sportsregions.fr/evenements/2026/04/18/handball-cubzaguais-haillan-handball-2379941
END:VEVENT
END:VCALENDAR
