BEGIN:VCALENDAR
VERSION:2.0
PRODID:-//hacksw/handcal//NONSGML v1.0//EN
BEGIN:VEVENT
SUMMARY:SAG Cestas HB / Haillan Handball
UID:2715a388-72ea-4d3b-875b-e76dca72aa3d
DTSTART:20260329T120000Z
DTEND:20260329T230000Z
LOCATION:Localisation Salle Raymond Subrenat - Route de Canejan 33610 Cestas
CATEGORIES:Sportif
STATUS:
URL;VALUE=URI:https://handballinfos33.sportsregions.fr/evenements/2026/03/29/sag-cestas-hb-haillan-handball-2379937
END:VEVENT
END:VCALENDAR
