BEGIN:VCALENDAR
VERSION:2.0
PRODID:-//hacksw/handcal//NONSGML v1.0//EN
BEGIN:VEVENT
SUMMARY:PE2M HB / Gradignan HC
UID:1467df9f-2e1a-436a-a414-c48a5613c6df
DTSTART:20260329T140000Z
DTEND:20260329T230000Z
LOCATION:Localisation Gymnase du College - Chemin du stade 33 Latresne
CATEGORIES:Sportif
STATUS:
URL;VALUE=URI:https://handballinfos33.sportsregions.fr/evenements/2026/03/29/pe2m-hb-gradignan-hc-2432242
END:VEVENT
END:VCALENDAR
