BEGIN:VCALENDAR
VERSION:2.0
PRODID:-//hacksw/handcal//NONSGML v1.0//EN
BEGIN:VEVENT
SUMMARY:CA Beglais HB / Bruges 33 HB
UID:f69f8876-99f2-40f8-a3c6-e2089610153e
DTSTART:20260329T120000Z
DTEND:20260329T230000Z
LOCATION:Localisation Salle Duhourquet - rue Marcel Sembat 33130 Begles
CATEGORIES:Sportif
STATUS:
URL;VALUE=URI:https://handballinfos33.sportsregions.fr/evenements/2026/03/29/ca-beglais-hb-bruges-33-hb-2292065
END:VEVENT
END:VCALENDAR
