BEGIN:VCALENDAR
VERSION:2.0
PRODID:-//hacksw/handcal//NONSGML v1.0//EN
BEGIN:VEVENT
SUMMARY:UA Cadillac-Cerons / ASHB du Fronsadais
UID:a95d0a54-efa2-4559-82b1-d2de994de8d8
DTSTART:20260328T193000Z
DTEND:20260328T230000Z
LOCATION:Localisation Gymnase Jean Marie Pietrzak - 33 Chemin des Baries 33410 Cadillac
CATEGORIES:Sportif
STATUS:
URL;VALUE=URI:https://handballinfos33.sportsregions.fr/evenements/2026/03/28/ua-cadillac-cerons-ashb-du-fronsadais-2276158
END:VEVENT
END:VCALENDAR
