BEGIN:VCALENDAR
VERSION:2.0
PRODID:-//hacksw/handcal//NONSGML v1.0//EN
BEGIN:VEVENT
SUMMARY:Merignac GH / Celles s/Belle Mellois en Poitou HB
UID:dede258d-0b63-46f0-8a5e-ce7755d6fa52
DTSTART:20260328T193000Z
DTEND:20260328T230000Z
LOCATION:Localisation Salle Pierre de Coubertin - Avenue Robert Schumann 33700 Merignac
CATEGORIES:Sportif
STATUS:
URL;VALUE=URI:https://handballinfos33.sportsregions.fr/evenements/2026/03/28/merignac-gh-celles-sbelle-mellois-en-poitou-hb-2293192
END:VEVENT
END:VCALENDAR
