BEGIN:VCALENDAR
VERSION:2.0
PRODID:-//hacksw/handcal//NONSGML v1.0//EN
BEGIN:VEVENT
SUMMARY:Carbon Blanc HB / Capo Limoges HB
UID:d487ec92-133d-4ef5-9f6f-ff53820e179c
DTSTART:20260328T170000Z
DTEND:20260328T230000Z
LOCATION:Localisation Gymnase Jerome Fernandez - rue des Futaies 33 Carbon Blanc
CATEGORIES:Sportif
STATUS:
URL;VALUE=URI:https://handballinfos33.sportsregions.fr/evenements/2026/03/28/carbon-blanc-hb-capo-limoges-hb-2432228
END:VEVENT
END:VCALENDAR
