BEGIN:VCALENDAR
VERSION:2.0
PRODID:-//hacksw/handcal//NONSGML v1.0//EN
BEGIN:VEVENT
SUMMARY:Bruges 33 HB / Pau Nousty Sports HB
UID:40a985de-bc69-4ea8-9a77-511d29eada9a
DTSTART:20260328T173000Z
DTEND:20260328T230000Z
LOCATION:Localisation Complexe sportif  Arc en Ciel - 45 rue Jean Claudeville 33 Bruges
CATEGORIES:Sportif
STATUS:
URL;VALUE=URI:https://handballinfos33.sportsregions.fr/evenements/2026/03/28/bruges-33-hb-pau-nousty-sports-hb-2432218
END:VEVENT
END:VCALENDAR
