BEGIN:VCALENDAR
VERSION:2.0
PRODID:-//hacksw/handcal//NONSGML v1.0//EN
BEGIN:VEVENT
SUMMARY:Bordeaux EC HB / Grands Lacs Handball 40
UID:6d320bb1-4af8-472b-b028-b45a3e085b38
DTSTART:20260328T191500Z
DTEND:20260328T230000Z
LOCATION:Localisation Gymnase Robert Geneste - Rue Beck 33800 Bordeaux
CATEGORIES:Sportif
STATUS:
URL;VALUE=URI:https://handballinfos33.sportsregions.fr/evenements/2026/03/28/bordeaux-ec-hb-grands-lacs-handball-40-2432266
END:VEVENT
END:VCALENDAR
