BEGIN:VCALENDAR
VERSION:2.0
PRODID:-//hacksw/handcal//NONSGML v1.0//EN
BEGIN:VEVENT
SUMMARY:AS Handball Brannais / Andernos Handball Nord Bassin
UID:f2cfd4fe-0c4a-4c11-a211-c562e67db5b9
DTSTART:20260328T180000Z
DTEND:20260328T230000Z
LOCATION:Localisation Gymnase du College Paul Emile Victor - 43 Fort Bayard 33 Branne
CATEGORIES:Sportif
STATUS:
URL;VALUE=URI:https://handballinfos33.sportsregions.fr/evenements/2026/03/28/as-handball-brannais-andernos-handball-nord-bassin-2276155
END:VEVENT
END:VCALENDAR
