BEGIN:VCALENDAR
VERSION:2.0
PRODID:-//hacksw/handcal//NONSGML v1.0//EN
BEGIN:VEVENT
SUMMARY:SAG Cestas HB / HBC Creonnais
UID:ce2295cb-ef78-42db-a34d-0273c1dbe724
DTSTART:20260322T150000Z
DTEND:20260322T230000Z
LOCATION:Localisation Salle Raymond Subrenat - Route de Canejan 33610 Cestas
CATEGORIES:Sportif
STATUS:
URL;VALUE=URI:https://handballinfos33.sportsregions.fr/evenements/2026/03/22/sag-cestas-hb-hbc-creonnais-2379925
END:VEVENT
END:VCALENDAR
