BEGIN:VCALENDAR
VERSION:2.0
PRODID:-//hacksw/handcal//NONSGML v1.0//EN
BEGIN:VEVENT
SUMMARY:HBC Bazadais / Handball Cubzaguais
UID:e935e2f4-6152-4635-a1ed-52bef778bf9c
DTSTART:20260322T150000Z
DTEND:20260322T230000Z
LOCATION:Localisation Gymnase Sainte Cluque - 5 avenue Paul Lamarque 33430 Bazas
CATEGORIES:Sportif
STATUS:
URL;VALUE=URI:https://handballinfos33.sportsregions.fr/evenements/2026/03/22/hbc-bazadais-handball-cubzaguais-2379930
END:VEVENT
END:VCALENDAR
