BEGIN:VCALENDAR
VERSION:2.0
PRODID:-//hacksw/handcal//NONSGML v1.0//EN
BEGIN:VEVENT
SUMMARY:Cote Basque HB / Lege Cap-Ferret HB
UID:09a4ee1d-6337-493a-97dd-63cef47914bf
DTSTART:20260322T150000Z
DTEND:20260322T230000Z
LOCATION:Localisation Salle Lauga - Avenue Paul Pras 64100 Bayonne
CATEGORIES:Sportif
STATUS:
URL;VALUE=URI:https://handballinfos33.sportsregions.fr/evenements/2026/03/22/cote-basque-hb-lege-cap-ferret-hb-2257333
END:VEVENT
END:VCALENDAR
