BEGIN:VCALENDAR
VERSION:2.0
PRODID:-//hacksw/handcal//NONSGML v1.0//EN
BEGIN:VEVENT
SUMMARY:Carbon Blanc HB / Saint Medard - Sainte Helene HB
UID:d8eb1323-1a26-469e-a8c8-d133e1c9a2d6
DTSTART:20260322T130000Z
DTEND:20260322T230000Z
LOCATION:Localisation Gymnase Jerome Fernandez - rue des Futaies 33560 Carbon Blanc
CATEGORIES:Sportif
STATUS:
URL;VALUE=URI:https://handballinfos33.sportsregions.fr/evenements/2026/03/22/carbon-blanc-hb-saint-medard-sainte-helene-hb-2388209
END:VEVENT
END:VCALENDAR
