BEGIN:VCALENDAR
VERSION:2.0
PRODID:-//hacksw/handcal//NONSGML v1.0//EN
BEGIN:VEVENT
SUMMARY:Carbon Blanc HB / Girondins de Bordeaux Bastide HC
UID:762219bf-2427-4423-9bc3-946d31ba04cc
DTSTART:20260322T150000Z
DTEND:20260322T230000Z
LOCATION:Localisation Gymnase Jerome Fernandez - rue des Futaies 33560 Carbon Blanc
CATEGORIES:Sportif
STATUS:
URL;VALUE=URI:https://handballinfos33.sportsregions.fr/evenements/2026/03/22/carbon-blanc-hb-girondins-de-bordeaux-bastide-hc-2292048
END:VEVENT
END:VCALENDAR
