BEGIN:VCALENDAR
VERSION:2.0
PRODID:-//hacksw/handcal//NONSGML v1.0//EN
BEGIN:VEVENT
SUMMARY:AS Handball Brannais /Union Cadillac Cerons HB
UID:ddc54ee6-907b-4e99-a234-774bda0e89cb
DTSTART:20260322T140000Z
DTEND:20260322T230000Z
LOCATION:Localisation Gymnase College Paul Emile Victor - 43 Fort Bayard 33 Branne
CATEGORIES:Sportif
STATUS:
URL;VALUE=URI:https://handballinfos33.sportsregions.fr/evenements/2026/03/22/as-handball-brannais-union-cadillac-cerons-hb-2275154
END:VEVENT
END:VCALENDAR
