BEGIN:VCALENDAR
VERSION:2.0
PRODID:-//hacksw/handcal//NONSGML v1.0//EN
BEGIN:VEVENT
SUMMARY:Villenave HBC / Union Bearnaise HB
UID:cee2c36a-4b39-49e5-ab2d-a36eabad663d
DTSTART:20260321T200000Z
DTEND:20260321T230000Z
LOCATION:Localisation Gymnase Nelson Paillou - Allee du Commandant Moos 33140 Villenave d'Ornon
CATEGORIES:Sportif
STATUS:
URL;VALUE=URI:https://handballinfos33.sportsregions.fr/evenements/2026/03/21/villenave-hbc-union-bearnaise-hb-2429191
END:VEVENT
END:VCALENDAR
