BEGIN:VCALENDAR
VERSION:2.0
PRODID:-//hacksw/handcal//NONSGML v1.0//EN
BEGIN:VEVENT
SUMMARY:Mignaloux Beauvoir HBC / Carbon Blanc HB
UID:cae1b5c2-8642-4be0-856a-e79c0df41d1e
DTSTART:20260321T200000Z
DTEND:20260321T230000Z
LOCATION:Localisation Gymnase Mignaloux - 436 rue de la Gare 86550 Mignaloux Beauvoir
CATEGORIES:Sportif
STATUS:
URL;VALUE=URI:https://handballinfos33.sportsregions.fr/evenements/2026/03/21/mignaloux-beauvoir-hbc-carbon-blanc-hb-2429204
END:VEVENT
END:VCALENDAR
