BEGIN:VCALENDAR
VERSION:2.0
PRODID:-//hacksw/handcal//NONSGML v1.0//EN
BEGIN:VEVENT
SUMMARY:HBC Pays Castillonnais / Eysines-Merignac HB
UID:7206cc43-374e-462a-ad3b-cd8f03b95fa0
DTSTART:20260321T203000Z
DTEND:20260321T230000Z
LOCATION:Localisation Gymnase Leo Lagrange - Avenue de Verdun 33350 Castillon la Bataille
CATEGORIES:Sportif
STATUS:
URL;VALUE=URI:https://handballinfos33.sportsregions.fr/evenements/2026/03/21/hbc-pays-castillonnais-eysines-merignac-hb-2377145
END:VEVENT
END:VCALENDAR
