BEGIN:VCALENDAR
VERSION:2.0
PRODID:-//hacksw/handcal//NONSGML v1.0//EN
BEGIN:VEVENT
SUMMARY:Girondins de Bordeaux Bastide HC / Hbc Marmandais
UID:43f9f6cd-c3c9-4e02-b091-3a5d67bea92a
DTSTART:20260321T193000Z
DTEND:20260321T230000Z
LOCATION:Localisation Salle Jean Dauguet - Rue de la Benauge 33 Bordeaux
CATEGORIES:Sportif
STATUS:
URL;VALUE=URI:https://handballinfos33.sportsregions.fr/evenements/2026/03/21/girondins-de-bordeaux-bastide-hc-hbc-marmandais-2257335
END:VEVENT
END:VCALENDAR
